BEGIN:VCALENDAR
VERSION:2.0
PRODID:-//Tukios.com/
BEGIN:VEVENT
UID:299fbc9d-f4c1-42f7-839e-b87f56880ced@www.maceroni.com
DTSTAMP:20260422T160151Z
DTSTART:20260425T160000Z
DTEND:20260425T161500Z
SUMMARY:Interment
DESCRIPTION:
URL:https://www.maceroni.com/obituaries/william-signoriello-jr
LOCATION: 1 Rhode Island Ave  Johnston RI 02911
GEO:41.8561641;-71.489394
END:VEVENT
END:VCALENDAR