BEGIN:VCALENDAR
VERSION:2.0
PRODID:-//Tukios.com/
BEGIN:VEVENT
UID:422be8df-6d7e-4b7c-8b5c-666820ece7da@www.maceroni.com
DTSTAMP:20260422T160605Z
DTSTART:20260425T150000Z
DTEND:20260425T154500Z
SUMMARY:Mass
DESCRIPTION:
URL:https://www.maceroni.com/obituaries/william-signoriello-jr
LOCATION: 639 Mt. Peasant Ave  Providence RI 02908
GEO:41.8457634;-71.4531173
END:VEVENT
END:VCALENDAR