BEGIN:VCALENDAR
VERSION:2.0
PRODID:-//Tukios.com/
BEGIN:VEVENT
UID:bb7fdc94-6f96-425e-bc53-89f6d6d2ab6b@www.maceroni.com
DTSTAMP:20260422T160145Z
DTSTART:20260425T133000Z
DTEND:20260425T143000Z
SUMMARY:Funeral Service
DESCRIPTION:
URL:https://www.maceroni.com/obituaries/william-signoriello-jr
LOCATION: 1381 Smith St  North Providence RI 02911
GEO:41.849463;-71.4592954
END:VEVENT
END:VCALENDAR