BEGIN:VCALENDAR
VERSION:2.0
PRODID:-//Tukios.com/
BEGIN:VEVENT
UID:eb97cc34-8944-461c-8708-ed6a5a1d6682@www.maceroni.com
DTSTAMP:20260422T160331Z
DTSTART:20260424T200000Z
DTEND:20260424T230000Z
SUMMARY:Visitation
DESCRIPTION:
URL:https://www.maceroni.com/obituaries/william-signoriello-jr
LOCATION: 1381 Smith St  North Providence RI 02911
GEO:41.849463;-71.4592954
END:VEVENT
END:VCALENDAR